BEGIN:VCALENDAR
VERSION:2.0
PRODID:-//musikverein-bleichheim//NONSGML kigkonsult.se iCalcreator 2.30.10
 //
CALSCALE:GREGORIAN
METHOD:PUBLISH
UID:b4cadb89-7dfb-4043-bb58-70aa8cd8955c
X-WR-CALNAME:iCagenda
X-WR-CALDESC:Event Management Extension for Joomla!
X-WR-RELCALID:3E26604A-50F4-4449-8B3E-E4F4932D05B5
X-WR-TIMEZONE:UTC
BEGIN:VTIMEZONE
TZID:UTC
END:VTIMEZONE
BEGIN:VEVENT
UID:41ad17a8-f1ba-430a-a2cc-b66dcb803a3e
DTSTAMP:20260424T084904Z
CATEGORIES:Gesamtkapelle
CLASS:PUBLIC
DESCRIPTION;ALTREP="CID:<FFFF__=0ABBE548DFE235B58f9e8a93d@coffeebean.com>":
 Beim dritten Wein- und Musikfestival für die Region in Herbolzheim durfte 
 der Musikverein Bleichheim bei strahlendem Sonnenschein bei der Bühne am R
 athaus die zahlreichen Festgäste musikalisch unterhalten.\nUnter der Leitu
 ng von Vize-Dirigent Martin Appenmaier spielte der MVB ein abwechslungsrei
 ches Unterhaltungskonzert. Ein Festbesucher ergriff zum Abschluss das Mikr
 ofon und unterstütze den Musikverein gesanglich bei „Böhmischer Traum“ unt
 er großem Beifall der Zuhörer.\n{gallery}inhalte/photos/2024/sfescht_2024{
 /gallery}\n&nbsp\;
DTSTART:20240616T115200Z
DTEND:20240616T115200Z
GEO:00;0
LOCATION:
ORGANIZER:
SEQUENCE:1
SUMMARY:Auftritt beim S`Fescht in Herbolzheim
TRANSP:OPAQUE
URL:https://musikverein-bleichheim.de/index.php/rueckblick/244-auftritt-bei
 m-s%60fescht-in-herbolzheim/2024-06-16-11-52
END:VEVENT
END:VCALENDAR
